BEGIN:VCALENDAR
VERSION:2.0
PRODID:spatie/icalendar-generator
DESCRIPTION:Events from Margaret Walker Center | Jackson State University
X-WR-CALDESC:Events from Margaret Walker Center | Jackson State University
REFRESH-INTERVAL;VALUE=DURATION:PT1440M
X-PUBLISHED-TTL:PT1440M
BEGIN:VTIMEZONE
TZID:Etc/GMT+0
BEGIN:STANDARD
DTSTART:20250214T100000Z
TZOFFSETFROM:+0000
TZOFFSETTO:+0000
END:STANDARD
END:VTIMEZONE
BEGIN:VTIMEZONE
TZID:UTC
BEGIN:STANDARD
DTSTART:20250725T014238Z
TZOFFSETFROM:+0000
TZOFFSETTO:+0000
END:STANDARD
END:VTIMEZONE
BEGIN:VEVENT
UID:146-132
DTSTAMP:20260421T014238Z
SUMMARY:Veterans Day Reading of the Names Program
LOCATION:COFO Civil Rights Education Center 1017 John R. Lynch St.  Jackson
  Mississippi 39203
ORGANIZER;CN=j01039632:MAILTO:j01039632@jsums.edu
DTSTART;TZID=Etc/GMT+0:20251111T100000
DTEND;TZID=Etc/GMT+0:20251111T110000
X-ALT-DESC;FMTTYPE=TEXT/HTML:<p>Organized nationally by the African America
 n Civil War Memorial Museum\, the Margaret Walker Center is a host site th
 at will read the names of Mississippi's 53rd Regiment of the United States
  Colored Troops who fought during the Civil War.</p>\n
CATEGORIES:General
URL;VALUE=URI:https://www.jsums.edu/margaretwalkercenter/mc-events/veterans
 -day-reading-of-the-names-program/?mc_id=146
END:VEVENT
END:VCALENDAR