BEGIN:VCALENDAR
VERSION:2.0
PRODID:spatie/icalendar-generator
DESCRIPTION:Events from Margaret Walker Center | Jackson State University
X-WR-CALDESC:Events from Margaret Walker Center | Jackson State University
REFRESH-INTERVAL;VALUE=DURATION:PT1440M
X-PUBLISHED-TTL:PT1440M
BEGIN:VTIMEZONE
TZID:Etc/GMT+0
BEGIN:STANDARD
DTSTART:20250222T140000Z
TZOFFSETFROM:+0000
TZOFFSETTO:+0000
END:STANDARD
END:VTIMEZONE
BEGIN:VTIMEZONE
TZID:UTC
BEGIN:STANDARD
DTSTART:20250725T031106Z
TZOFFSETFROM:+0000
TZOFFSETTO:+0000
END:STANDARD
END:VTIMEZONE
BEGIN:VEVENT
UID:152-138
DTSTAMP:20260421T031106Z
SUMMARY:Group Tour
LOCATION:COFO Civil Rights Education Center 1017 John R. Lynch St.  Jackson
  Mississippi 39203
ORGANIZER;CN=j01039632:MAILTO:j01039632@jsums.edu
DTSTART;TZID=Etc/GMT+0:20251119T140000
DTEND;TZID=Etc/GMT+0:20251119T153000
X-ALT-DESC;FMTTYPE=TEXT/HTML:<p>COFO will be occupied with visitors for a g
 roup tour at this time. Please plan walk-ins and tour requests accordingly
 .</p>\n
CATEGORIES:General
URL;VALUE=URI:https://www.jsums.edu/margaretwalkercenter/mc-events/group-to
 ur-25/?mc_id=152
END:VEVENT
END:VCALENDAR