BEGIN:VCALENDAR
VERSION:2.0
PRODID:spatie/icalendar-generator
DESCRIPTION:Events from Margaret Walker Center | Jackson State University
X-WR-CALDESC:Events from Margaret Walker Center | Jackson State University
REFRESH-INTERVAL;VALUE=DURATION:PT1440M
X-PUBLISHED-TTL:PT1440M
BEGIN:VTIMEZONE
TZID:Etc/GMT+0
BEGIN:STANDARD
DTSTART:20250608T000000Z
TZOFFSETFROM:+0000
TZOFFSETTO:+0000
END:STANDARD
END:VTIMEZONE
BEGIN:VTIMEZONE
TZID:UTC
BEGIN:STANDARD
DTSTART:20250724T201045Z
TZOFFSETFROM:+0000
TZOFFSETTO:+0000
END:STANDARD
END:VTIMEZONE
BEGIN:VEVENT
UID:171-157
DTSTAMP:20260420T201045Z
SUMMARY:Mississippi Historical Society Conference
LOCATION:Mississippi Arts + Entertainment Experience (MAX) 2155 Front Stree
 t  Meridian Mississippi 39301
ORGANIZER;CN=j01039632:MAILTO:j01039632@jsums.edu
DTSTART;TZID=Etc/GMT+0;VALUE=DATE:20260305
DTEND;TZID=Etc/GMT+0;VALUE=DATE:20260307
X-ALT-DESC;FMTTYPE=TEXT/HTML:<p>COFO and Gallery 1 will be closed while sta
 ff attend the annual Mississippi Historical Society Conference in Meridian
 \, MS.</p>\n
CATEGORIES:General
URL;VALUE=URI:https://www.jsums.edu/margaretwalkercenter/mc-events/mississi
 ppi-historical-society-conference/?mc_id=171
END:VEVENT
END:VCALENDAR