BEGIN:VCALENDAR
VERSION:2.0
PRODID:spatie/icalendar-generator
DESCRIPTION:Events from Margaret Walker Center | Jackson State University
X-WR-CALDESC:Events from Margaret Walker Center | Jackson State University
REFRESH-INTERVAL;VALUE=DURATION:PT1440M
X-PUBLISHED-TTL:PT1440M
BEGIN:VTIMEZONE
TZID:Etc/GMT+0
BEGIN:STANDARD
DTSTART:20250714T000000Z
TZOFFSETFROM:+0000
TZOFFSETTO:+0000
END:STANDARD
END:VTIMEZONE
BEGIN:VTIMEZONE
TZID:UTC
BEGIN:STANDARD
DTSTART:20250724T213421Z
TZOFFSETFROM:+0000
TZOFFSETTO:+0000
END:STANDARD
END:VTIMEZONE
BEGIN:VEVENT
UID:175-161
DTSTAMP:20260420T213421Z
SUMMARY:2026 CASE Festival
LOCATION:Jackson State University 1400 John R. Lynch St.  Jackson Mississip
 pi 39217
ORGANIZER;CN=j01039632:MAILTO:j01039632@jsums.edu
DTSTART;TZID=Etc/GMT+0;VALUE=DATE:20260410
DTEND;TZID=Etc/GMT+0;VALUE=DATE:20260412
X-ALT-DESC;FMTTYPE=TEXT/HTML:<p>The CASE Festival is our annual student con
 ference\, free and open to the public! You can look forward to panels\, pr
 esentations\, a fashion show\, a keynote with Dr. Evie Shockley\, and more
 . The full schedule is posted on our website.</p>\n
CATEGORIES:General
URL;VALUE=URI:https://www.jsums.edu/margaretwalkercenter/mc-events/2026-cas
 e-festival/?mc_id=175
END:VEVENT
END:VCALENDAR