BEGIN:VCALENDAR
VERSION:2.0
PRODID:spatie/icalendar-generator
DESCRIPTION:Events from Margaret Walker Center | Jackson State University
X-WR-CALDESC:Events from Margaret Walker Center | Jackson State University
REFRESH-INTERVAL;VALUE=DURATION:PT1440M
X-PUBLISHED-TTL:PT1440M
BEGIN:VTIMEZONE
TZID:Etc/GMT+0
BEGIN:STANDARD
DTSTART:20250817T000000Z
TZOFFSETFROM:+0000
TZOFFSETTO:+0000
END:STANDARD
END:VTIMEZONE
BEGIN:VTIMEZONE
TZID:UTC
BEGIN:STANDARD
DTSTART:20250724T215457Z
TZOFFSETFROM:+0000
TZOFFSETTO:+0000
END:STANDARD
END:VTIMEZONE
BEGIN:VEVENT
UID:179-164
DTSTAMP:20260420T215457Z
SUMMARY:56th Annual Gibbs-Green Commemoration
LOCATION:Jackson State University 1400 John R. Lynch St.  Jackson Mississip
 pi 39217
ORGANIZER;CN=j01039632:MAILTO:j01039632@jsums.edu
DTSTART;TZID=Etc/GMT+0;VALUE=DATE:20260514
DTEND;TZID=Etc/GMT+0;VALUE=DATE:20260515
X-ALT-DESC;FMTTYPE=TEXT/HTML:<p>Please join us for the 56th annual Gibbs-Gr
 een Commemoration\, honoring the Class of 1970 and the lives lost during t
 he May 1970 Tragedy at Jackson State. More information coming soon.</p>\n
CATEGORIES:General
URL;VALUE=URI:https://www.jsums.edu/margaretwalkercenter/mc-events/56th-ann
 ual-gibbs-green-commemoration/?mc_id=179
END:VEVENT
END:VCALENDAR