BEGIN:VCALENDAR
VERSION:2.0
PRODID:spatie/icalendar-generator
DESCRIPTION:Events from Margaret Walker Center | Jackson State University
X-WR-CALDESC:Events from Margaret Walker Center | Jackson State University
REFRESH-INTERVAL;VALUE=DURATION:PT1440M
X-PUBLISHED-TTL:PT1440M
BEGIN:VTIMEZONE
TZID:Etc/GMT+0
BEGIN:STANDARD
DTSTART:20250523T160000Z
TZOFFSETFROM:+0000
TZOFFSETTO:+0000
END:STANDARD
END:VTIMEZONE
BEGIN:VTIMEZONE
TZID:UTC
BEGIN:STANDARD
DTSTART:20250724T233400Z
TZOFFSETFROM:+0000
TZOFFSETTO:+0000
END:STANDARD
END:VTIMEZONE
BEGIN:VEVENT
UID:183-168
DTSTAMP:20260420T233400Z
SUMMARY:CASE Fest Q&amp;amp\;A (virtual)
LOCATION:
ORGANIZER;CN=j01039632:MAILTO:j01039632@jsums.edu
DTSTART;TZID=Etc/GMT+0:20260217T160000
DTEND;TZID=Etc/GMT+0:20260217T170000
X-ALT-DESC;FMTTYPE=TEXT/HTML:<p>Join us for a virtual presentation about ou
 r annual Creative Arts and Scholarly Engagement Festival! Registration is 
 required.</p>\n
CATEGORIES:General
URL;VALUE=URI:https://www.jsums.edu/margaretwalkercenter/mc-events/case-fes
 t-qa-virtual/?mc_id=183
END:VEVENT
END:VCALENDAR