BEGIN:VCALENDAR
VERSION:2.0
PRODID:spatie/icalendar-generator
DESCRIPTION:Events from Margaret Walker Center | Jackson State University
X-WR-CALDESC:Events from Margaret Walker Center | Jackson State University
REFRESH-INTERVAL;VALUE=DURATION:PT1440M
X-PUBLISHED-TTL:PT1440M
BEGIN:VTIMEZONE
TZID:Etc/GMT+0
BEGIN:STANDARD
DTSTART:20240219T100000Z
TZOFFSETFROM:+0000
TZOFFSETTO:+0000
END:STANDARD
END:VTIMEZONE
BEGIN:VTIMEZONE
TZID:UTC
BEGIN:STANDARD
DTSTART:20250725T010809Z
TZOFFSETFROM:+0000
TZOFFSETTO:+0000
END:STANDARD
END:VTIMEZONE
BEGIN:VEVENT
UID:29-22
DTSTAMP:20260421T010809Z
SUMMARY:COFO Pocket Park Work Day
LOCATION:COFO Civil Rights Education Center 1017 John R. Lynch St.  Jackson
  Mississippi 39203
ORGANIZER;CN=j01039632:MAILTO:j01039632@jsums.edu
DTSTART;TZID=Etc/GMT+0:20241115T100000
DTEND;TZID=Etc/GMT+0:20241115T120000
X-ALT-DESC;FMTTYPE=TEXT/HTML:We will be working on our new Pocket Park (loc
 ated next to the COFO Civil Rights Education Center). Stay tuned for its o
 pening! It will be a space for events\, gatherings\, and community.
CATEGORIES:General
URL;VALUE=URI:https://www.jsums.edu/margaretwalkercenter/mc-events/cofo-poc
 ket-park-work-day/?mc_id=29
END:VEVENT
END:VCALENDAR