BEGIN:VCALENDAR
VERSION:2.0
PRODID:spatie/icalendar-generator
DESCRIPTION:Events from Margaret Walker Center | Jackson State University
X-WR-CALDESC:Events from Margaret Walker Center | Jackson State University
REFRESH-INTERVAL;VALUE=DURATION:PT1440M
X-PUBLISHED-TTL:PT1440M
BEGIN:VTIMEZONE
TZID:Etc/GMT+0
BEGIN:STANDARD
DTSTART:20250221T150000Z
TZOFFSETFROM:+0000
TZOFFSETTO:+0000
END:STANDARD
END:VTIMEZONE
BEGIN:VTIMEZONE
TZID:UTC
BEGIN:STANDARD
DTSTART:20250725T033400Z
TZOFFSETFROM:+0000
TZOFFSETTO:+0000
END:STANDARD
END:VTIMEZONE
BEGIN:VEVENT
UID:151-137
DTSTAMP:20260421T033400Z
SUMMARY:Closed Early for State of the University Address
LOCATION:COFO Civil Rights Education Center 1017 John R. Lynch St.  Jackson
  Mississippi 39203
ORGANIZER;CN=j01039632:MAILTO:j01039632@jsums.edu
DTSTART;TZID=Etc/GMT+0:20251118T150000
DTEND;TZID=Etc/GMT+0:20251118T170000
X-ALT-DESC;FMTTYPE=TEXT/HTML:<p>COFO will close early for staff to attend J
 SU's State of the University Address at 3:00 p.m.</p>\n
CATEGORIES:General
URL;VALUE=URI:https://www.jsums.edu/margaretwalkercenter/mc-events/closed-e
 arly-for-state-of-the-university-address/?mc_id=151
END:VEVENT
END:VCALENDAR