BEGIN:VCALENDAR
VERSION:2.0
PRODID:spatie/icalendar-generator
DESCRIPTION:Events from Margaret Walker Center | Jackson State University
X-WR-CALDESC:Events from Margaret Walker Center | Jackson State University
REFRESH-INTERVAL;VALUE=DURATION:PT1440M
X-PUBLISHED-TTL:PT1440M
BEGIN:VTIMEZONE
TZID:Etc/GMT+0
BEGIN:STANDARD
DTSTART:20250421T100000Z
TZOFFSETFROM:+0000
TZOFFSETTO:+0000
END:STANDARD
END:VTIMEZONE
BEGIN:VTIMEZONE
TZID:UTC
BEGIN:STANDARD
DTSTART:20250725T044754Z
TZOFFSETFROM:+0000
TZOFFSETTO:+0000
END:STANDARD
END:VTIMEZONE
BEGIN:VEVENT
UID:160-146
DTSTAMP:20260421T044754Z
SUMMARY:MLK Convocation and For My People Awards Luncheon
LOCATION:Jackson State University 1400 John R. Lynch St.  Jackson Mississip
 pi 39217
ORGANIZER;CN=j01039632:MAILTO:j01039632@jsums.edu
DTSTART;TZID=Etc/GMT+0:20260116T100000
DTEND;TZID=Etc/GMT+0:20260116T110000
X-ALT-DESC;FMTTYPE=TEXT/HTML:<p>Join us on Friday\, January 16\, for our 58
 th annual Martin Luther King\, Jr.\, Birthday Convocation.</p>\n
CATEGORIES:General
URL;VALUE=URI:https://www.jsums.edu/margaretwalkercenter/mc-events/mlk-conv
 ocation-and-for-my-people-awards-luncheon-2/?mc_id=160
END:VEVENT
END:VCALENDAR