BEGIN:VCALENDAR
VERSION:2.0
PRODID:spatie/icalendar-generator
DESCRIPTION:Events from Margaret Walker Center | Jackson State University
X-WR-CALDESC:Events from Margaret Walker Center | Jackson State University
REFRESH-INTERVAL;VALUE=DURATION:PT1440M
X-PUBLISHED-TTL:PT1440M
BEGIN:VTIMEZONE
TZID:Etc/GMT+0
BEGIN:STANDARD
DTSTART:20250424T000000Z
TZOFFSETFROM:+0000
TZOFFSETTO:+0000
END:STANDARD
END:VTIMEZONE
BEGIN:VTIMEZONE
TZID:UTC
BEGIN:STANDARD
DTSTART:20250724T234921Z
TZOFFSETFROM:+0000
TZOFFSETTO:+0000
END:STANDARD
END:VTIMEZONE
BEGIN:VEVENT
UID:161-147
DTSTAMP:20260420T234921Z
SUMMARY:Closed for Martin Luther King\, Jr.\, Day
LOCATION:COFO Civil Rights Education Center 1017 John R. Lynch St.  Jackson
  Mississippi 39203
ORGANIZER;CN=j01039632:MAILTO:j01039632@jsums.edu
DTSTART;TZID=Etc/GMT+0;VALUE=DATE:20260119
DTEND;TZID=Etc/GMT+0;VALUE=DATE:20260120
X-ALT-DESC;FMTTYPE=TEXT/HTML:<p>COFO and Gallery 1 will be closed for Marti
 n Luther King\, Jr.\, Day.</p>\n
CATEGORIES:General
URL;VALUE=URI:https://www.jsums.edu/margaretwalkercenter/mc-events/closed-f
 or-martin-luther-king-jr-day-2/?mc_id=161
END:VEVENT
END:VCALENDAR