BEGIN:VCALENDAR
VERSION:2.0
PRODID:spatie/icalendar-generator
DESCRIPTION:Events from Margaret Walker Center | Jackson State University
X-WR-CALDESC:Events from Margaret Walker Center | Jackson State University
REFRESH-INTERVAL;VALUE=DURATION:PT1440M
X-PUBLISHED-TTL:PT1440M
BEGIN:VTIMEZONE
TZID:Etc/GMT+0
BEGIN:STANDARD
DTSTART:20250510T110000Z
TZOFFSETFROM:+0000
TZOFFSETTO:+0000
END:STANDARD
END:VTIMEZONE
BEGIN:VTIMEZONE
TZID:UTC
BEGIN:STANDARD
DTSTART:20250724T234855Z
TZOFFSETFROM:+0000
TZOFFSETTO:+0000
END:STANDARD
END:VTIMEZONE
BEGIN:VEVENT
UID:164-150
DTSTAMP:20260420T234855Z
SUMMARY:Poetry Out Loud Regional Competition
LOCATION:Jackson State University 1400 John R. Lynch St.  Jackson Mississip
 pi 39217
ORGANIZER;CN=j01039632:MAILTO:j01039632@jsums.edu
DTSTART;TZID=Etc/GMT+0:20260204T110000
DTEND;TZID=Etc/GMT+0:20260204T150000
X-ALT-DESC;FMTTYPE=TEXT/HTML:<p>Head to the JSU Student Center to root for 
 Mississippi high schoolers as they compete in this poetry recitation conte
 st!</p>\n
CATEGORIES:General
URL;VALUE=URI:https://www.jsums.edu/margaretwalkercenter/mc-events/poetry-o
 ut-loud-regional-competition/?mc_id=164
END:VEVENT
END:VCALENDAR