BEGIN:VCALENDAR
VERSION:2.0
PRODID:spatie/icalendar-generator
DESCRIPTION:Events from Margaret Walker Center | Jackson State University
X-WR-CALDESC:Events from Margaret Walker Center | Jackson State University
REFRESH-INTERVAL;VALUE=DURATION:PT1440M
X-PUBLISHED-TTL:PT1440M
BEGIN:VTIMEZONE
TZID:Etc/GMT+0
BEGIN:STANDARD
DTSTART:20250917T160000Z
TZOFFSETFROM:+0000
TZOFFSETTO:+0000
END:STANDARD
END:VTIMEZONE
BEGIN:VTIMEZONE
TZID:UTC
BEGIN:STANDARD
DTSTART:20250724T233327Z
TZOFFSETFROM:+0000
TZOFFSETTO:+0000
END:STANDARD
END:VTIMEZONE
BEGIN:VEVENT
UID:182-167
DTSTAMP:20260420T233327Z
SUMMARY:Jubilee Opera Concert Production
LOCATION:Jackson State University 1400 John R. Lynch St.  Jackson Mississip
 pi 39217
ORGANIZER;CN=j01039632:MAILTO:j01039632@jsums.edu
DTSTART;TZID=Etc/GMT+0:20260614T160000
DTEND;TZID=Etc/GMT+0:20260614T170000
X-ALT-DESC;FMTTYPE=TEXT/HTML:<p>Join Jackson State's Music Department for a
  moving concert production of the Jubilee Opera\, based on Margaret Walker
 's novel. More information coming soon.</p>\n
CATEGORIES:General
URL;VALUE=URI:https://www.jsums.edu/margaretwalkercenter/mc-events/jubilee-
 opera-concert-production/?mc_id=182
END:VEVENT
END:VCALENDAR