BEGIN:VCALENDAR
VERSION:2.0
PRODID:spatie/icalendar-generator
DESCRIPTION:Events from Margaret Walker Center | Jackson State University
X-WR-CALDESC:Events from Margaret Walker Center | Jackson State University
REFRESH-INTERVAL;VALUE=DURATION:PT1440M
X-PUBLISHED-TTL:PT1440M
BEGIN:VTIMEZONE
TZID:Etc/GMT+0
BEGIN:STANDARD
DTSTART:20240218T160000Z
TZOFFSETFROM:+0000
TZOFFSETTO:+0000
END:STANDARD
END:VTIMEZONE
BEGIN:VTIMEZONE
TZID:UTC
BEGIN:STANDARD
DTSTART:20250725T010748Z
TZOFFSETFROM:+0000
TZOFFSETTO:+0000
END:STANDARD
END:VTIMEZONE
BEGIN:VEVENT
UID:34-30
DTSTAMP:20260421T010748Z
SUMMARY:Law and Your Community Workshop
LOCATION:COFO Civil Rights Education Center 1017 John R. Lynch St.  Jackson
  Mississippi 39203
ORGANIZER;CN=j01039632:MAILTO:j01039632@jsums.edu
DTSTART;TZID=Etc/GMT+0:20241114T160000
DTEND;TZID=Etc/GMT+0:20241114T180000
X-ALT-DESC;FMTTYPE=TEXT/HTML:Designed for college students and community me
 mbers\, this workshop will address making communications and interactions 
 with law enforcement safer and more beneficial and efficient. The workshop
  will be led by the National Organization of Black Law Enforcement Executi
 ves (NOBLE).
CATEGORIES:General
URL;VALUE=URI:https://www.jsums.edu/margaretwalkercenter/mc-events/law-and-
 your-community-workshop/?mc_id=34
END:VEVENT
END:VCALENDAR