BEGIN:VCALENDAR
VERSION:2.0
PRODID:spatie/icalendar-generator
DESCRIPTION:Events from Margaret Walker Center | Jackson State University
X-WR-CALDESC:Events from Margaret Walker Center | Jackson State University
REFRESH-INTERVAL;VALUE=DURATION:PT1440M
X-PUBLISHED-TTL:PT1440M
BEGIN:VTIMEZONE
TZID:Etc/GMT+0
BEGIN:STANDARD
DTSTART:20240323T000000Z
TZOFFSETFROM:+0000
TZOFFSETTO:+0000
END:STANDARD
END:VTIMEZONE
BEGIN:VTIMEZONE
TZID:UTC
BEGIN:STANDARD
DTSTART:20250724T213318Z
TZOFFSETFROM:+0000
TZOFFSETTO:+0000
END:STANDARD
END:VTIMEZONE
BEGIN:VEVENT
UID:37-33
DTSTAMP:20260420T213318Z
SUMMARY:Closed for Staff Professional Development
LOCATION:
ORGANIZER;CN=j01039632:MAILTO:j01039632@jsums.edu
DTSTART;TZID=Etc/GMT+0;VALUE=DATE:20241218
DTEND;TZID=Etc/GMT+0;VALUE=DATE:20241221
X-ALT-DESC;FMTTYPE=TEXT/HTML:We will have our annual end-of-year staff retr
 eat\, which will include breakout sessions to work on new ideas for the Ma
 rgaret Walker Center and the COFO Civil Rights Education Center. COFO will
  be closed during the retreat.
CATEGORIES:General
URL;VALUE=URI:https://www.jsums.edu/margaretwalkercenter/mc-events/closed-f
 or-staff-professional-development/?mc_id=37
END:VEVENT
END:VCALENDAR