BEGIN:VCALENDAR
VERSION:2.0
PRODID:spatie/icalendar-generator
DESCRIPTION:Events from Margaret Walker Center | Jackson State University
X-WR-CALDESC:Events from Margaret Walker Center | Jackson State University
REFRESH-INTERVAL;VALUE=DURATION:PT1440M
X-PUBLISHED-TTL:PT1440M
BEGIN:VTIMEZONE
TZID:Etc/GMT+0
BEGIN:STANDARD
DTSTART:20240303T000000Z
TZOFFSETFROM:+0000
TZOFFSETTO:+0000
END:STANDARD
END:VTIMEZONE
BEGIN:VTIMEZONE
TZID:UTC
BEGIN:STANDARD
DTSTART:20250725T010735Z
TZOFFSETFROM:+0000
TZOFFSETTO:+0000
END:STANDARD
END:VTIMEZONE
BEGIN:VEVENT
UID:40-36
DTSTAMP:20260421T010735Z
SUMMARY:Closed for Thanksgiving Break
LOCATION:COFO Civil Rights Education Center 1017 John R. Lynch St.  Jackson
  Mississippi 39203
ORGANIZER;CN=j01039632:MAILTO:j01039632@jsums.edu
DTSTART;TZID=Etc/GMT+0;VALUE=DATE:20241128
DTEND;TZID=Etc/GMT+0;VALUE=DATE:20241130
X-ALT-DESC;FMTTYPE=TEXT/HTML:We will be closed for Thanksgiving Break Thurs
 day\, November 28\, and Friday\, November 29. Regular hours will resume Mo
 nday\, December 2. We wish everyone a safe\, enjoyable\, and restful break
 .
CATEGORIES:General
URL;VALUE=URI:https://www.jsums.edu/margaretwalkercenter/mc-events/closed-f
 or-thanksgiving-break/?mc_id=40
END:VEVENT
END:VCALENDAR